BEGIN:VCALENDAR
VERSION:2.0
PRODID:-//Squarespace Inc/Squarespace 6//v6//EN
BEGIN:VEVENT
UID:56e7f0d6f8baf34642243a76@squarespace.com
DTSTAMP:20160315T113935Z
DTSTART:20140426T190000Z
DTEND:20140426T200000Z
SUMMARY:5x5 2014: Round 1
GEO:-33.715798;150.303779
LOCATION:Katoomba Sports and Aquatic Centre\, Catalina Avenue\, Katoomba\, 
 NSW\, 2780\, Australia
END:VEVENT
END:VCALENDAR
