BEGIN:VCALENDAR
VERSION:2.0
PRODID:-//Squarespace Inc/Squarespace 6//v6//EN
BEGIN:VEVENT
UID:56e7efee2fe131ff71825e35@squarespace.com
DTSTAMP:20160315T113947Z
DTSTART:20140531T190000Z
DTEND:20140601T210000Z
SUMMARY:5x5 2014: Round 2
GEO:-33.791029;151.11555
LOCATION:Ryde Community Sports Centre\, Kent Road\, North Ryde\, NSW\, 2113
 \, Australia
END:VEVENT
END:VCALENDAR
