BEGIN:VCALENDAR
VERSION:2.0
PRODID:-//Squarespace Inc/Squarespace 6//v6//EN
BEGIN:VEVENT
UID:56e7eeeac6fc0816eb92edb5@squarespace.com
DTSTAMP:20160315T112354Z
DTSTART:20140705T190000Z
DTEND:20140706T210000Z
SUMMARY:South Side Derby Dolls
GEO:-33.754407;150.735021
LOCATION:Penrith Valley Regional Sports Centre\, 30 Herbert Street\, Cambri
 dge Park\, NSW\, 2747\, Australia
END:VEVENT
END:VCALENDAR
