BEGIN:VCALENDAR
VERSION:2.0
PRODID:-//Squarespace Inc/Squarespace 6//v6//EN
BEGIN:VEVENT
UID:56e7f9a2555986161fdbd55c@squarespace.com
DTSTAMP:20160315T120946Z
DTSTART:20140719T190000Z
DTEND:20140719T200000Z
SUMMARY:5x5 2014: Round 4
GEO:-33.967111;151.102855
LOCATION:Hurstville Aquatic Leisure Centre
END:VEVENT
END:VCALENDAR
