BEGIN:VCALENDAR
VERSION:2.0
PRODID:-//Squarespace Inc/Squarespace 6//v6//EN
BEGIN:VEVENT
UID:56e7facb37013b080106a566@squarespace.com
DTSTAMP:20160315T120805Z
DTSTART:20140726T203000Z
DTEND:20140726T213000Z
SUMMARY:Rollergeddon
GEO:-34.411279;150.884964
LOCATION:University of Wollongong
END:VEVENT
END:VCALENDAR
