BEGIN:VCALENDAR
VERSION:2.0
PRODID:-//Squarespace Inc/Squarespace 6//v6//EN
BEGIN:VEVENT
UID:56e7f8d1c2ea5108b73da3d7@squarespace.com
DTSTAMP:20160315T115940Z
DTSTART:20140816T223000Z
DTEND:20140816T233000Z
SUMMARY:Sydney Roller Derby League
GEO:-33.849322;151.211287
LOCATION:Big Top\, Luna Park\, 1 Olympic Drive\, Milsons Point\, NSW\, 2061
 \, Australia
END:VEVENT
END:VCALENDAR
