BEGIN:VCALENDAR
VERSION:2.0
PRODID:-//Squarespace Inc/Squarespace 6//v6//EN
BEGIN:VEVENT
UID:56e7f7fe1bbee0bfa96b6b61@squarespace.com
DTSTAMP:20160315T115617Z
DTSTART:20141004T133000Z
DTEND:20141004T143000Z
SUMMARY:ERRD 2014: Western Sydney Rollers
GEO:-33.382851;151.352668
LOCATION:Niagara Park Stadium\, 16 Washington Avenue\, Niagara Park\, NSW\, 
 2250\, Australia
END:VEVENT
END:VCALENDAR
