BEGIN:VCALENDAR
VERSION:2.0
PRODID:-//Squarespace Inc/Squarespace 6//v6//EN
BEGIN:VEVENT
UID:56e7f74e7da24f1c872534b0@squarespace.com
DTSTAMP:20160315T115334Z
DTSTART:20141005T170000Z
DTEND:20141005T180000Z
SUMMARY:ERRD 2014: Central Coast Roller Girls
GEO:-33.382851;151.352668
LOCATION:Niagara Park Stadium\, 16 Washington Avenue\, Niagara Park\, NSW\, 
 2250\, Australia
END:VEVENT
END:VCALENDAR
