BEGIN:VCALENDAR
VERSION:2.0
PRODID:-//Squarespace Inc/Squarespace 6//v6//EN
BEGIN:VEVENT
UID:56e7f6b98259b579288888ff@squarespace.com
DTSTAMP:20160315T115101Z
DTSTART:20141005T223000Z
DTEND:20141005T233000Z
SUMMARY:ERRD 2014: Wollongong Illawarra Roller Derby
GEO:-33.382851;151.352668
LOCATION:Niagara Park Stadium\, 16 Washington Avenue\, Niagara Park\, NSW\, 
 2250\, Australia
END:VEVENT
END:VCALENDAR
