BEGIN:VCALENDAR
VERSION:2.0
PRODID:-//Squarespace Inc/Squarespace 6//v6//EN
BEGIN:VEVENT
UID:56e7f6507da24f1c8725304a@squarespace.com
DTSTAMP:20160315T114851Z
DTSTART:20150321T190000Z
DTEND:20150321T200000Z
SUMMARY:5x5 2015: Round 1
GEO:-33.382851;151.352668
LOCATION:Niagara Park Stadium\, 16 Washington Avenue\, Niagara Park\, NSW\, 
 2250\, Australia
END:VEVENT
END:VCALENDAR
