BEGIN:VCALENDAR
VERSION:2.0
PRODID:-//Squarespace Inc/Squarespace 6//v6//EN
BEGIN:VEVENT
UID:56e7f5b9d51cd466c98fbc1c@squarespace.com
DTSTAMP:20160315T114712Z
DTSTART:20150523T190000Z
DTEND:20150523T200000Z
SUMMARY:5x5 2015: Round 3
GEO:-33.627003;150.804193
LOCATION:Hawkesbury Indoor Stadium\, 16 Stewart Street\, South Windsor\, NS
 W\, 2756\, Australia
END:VEVENT
END:VCALENDAR
