BEGIN:VCALENDAR
VERSION:2.0
PRODID:-//Squarespace Inc/Squarespace 6//v6//EN
BEGIN:VEVENT
UID:56e7f49fd51cd466c98fb76e@squarespace.com
DTSTAMP:20160315T125830Z
DTSTART:20150718T190000Z
DTEND:20150718T200000Z
SUMMARY:5x5 2015: Round 5
GEO:-33.382851;151.352668
LOCATION:Niagara Park Stadium\, 16 Washington Avenue\, Niagara Park\, NSW\, 
 2250\, Australia
END:VEVENT
END:VCALENDAR
