BEGIN:VCALENDAR
VERSION:2.0
PRODID:-//Squarespace Inc/Squarespace 6//v6//EN
BEGIN:VEVENT
UID:56e7f409555986161fdbbb40@squarespace.com
DTSTAMP:20160315T113915Z
DTSTART:20150816T170000Z
DTEND:20150816T180000Z
SUMMARY:OutCast Derby
GEO:-33.384976;151.472572
LOCATION:Bateau Bay PCYC\, The Entrance Road\, Bateau Bay\, NSW\, 2261\, Au
 stralia
END:VEVENT
END:VCALENDAR
