BEGIN:VCALENDAR
VERSION:2.0
PRODID:-//Squarespace Inc/Squarespace 6//v6//EN
BEGIN:VEVENT
UID:56e7f384b654f9ada96982e5@squarespace.com
DTSTAMP:20160315T113726Z
DTSTART:20150829T190000Z
DTEND:20150829T200000Z
SUMMARY:5x5 2015: Final (3rd)
GEO:-33.925845;150.914822
LOCATION:Whitlam Leisure Centre\, 90a Memorial Avenue\, Liverpool\, NSW\, 2
 170\, Australia
END:VEVENT
END:VCALENDAR
