BEGIN:VCALENDAR
VERSION:2.0
PRODID:-//Squarespace Inc/Squarespace 6//v6//EN
BEGIN:VEVENT
UID:56e7f2f98259b57928887aed@squarespace.com
DTSTAMP:20170614T082654Z
DTSTART:20151003T150000Z
DTEND:20151003T160000Z
SUMMARY:ERRD 2015: Port Macquarie Roller Derby League
GEO:-33.382851;151.352668
LOCATION:Niagara Park Stadium\, 16 Washington Avenue\, Niagara Park\, NSW\, 
 2250\, Australia
END:VEVENT
END:VCALENDAR
