BEGIN:VCALENDAR
VERSION:2.0
PRODID:-//Squarespace Inc/Squarespace 6//v6//EN
BEGIN:VEVENT
UID:56e7f27b01dbae088002abfe@squarespace.com
DTSTAMP:20170615T112210Z
DTSTART:20151004T150000Z
DTEND:20151004T160000Z
SUMMARY:ERRD 2015: OutCast Derby
GEO:-33.382851;151.352668
LOCATION:Niagara Park Stadium\, 16 Washington Avenue\, Niagara Park\, NSW\, 
 2250\, Australia
END:VEVENT
END:VCALENDAR
