BEGIN:VCALENDAR
VERSION:2.0
PRODID:-//Squarespace Inc/Squarespace 6//v6//EN
BEGIN:VEVENT
UID:56e7f1e5b6aa603d2086f0fc@squarespace.com
DTSTAMP:20160315T113055Z
DTSTART:20151004T203000Z
DTEND:20151004T213000Z
SUMMARY:ERRD 2015: Varsity Derby League
GEO:-33.382851;151.352668
LOCATION:Niagara Park Stadium\, 16 Washington Avenue\, Niagara Park\, NSW\, 
 2250\, Australia
END:VEVENT
END:VCALENDAR
