BEGIN:VCALENDAR
VERSION:2.0
PRODID:-//Squarespace Inc/Squarespace 6//v6//EN
BEGIN:VEVENT
UID:56e7d621859fd0797f8de338@squarespace.com
DTSTAMP:20160315T125810Z
DTSTART:20151128T200000Z
DTEND:20151129T010000Z
SUMMARY:Western Sydney Grand Final
GEO:-33.754407;150.735021
LOCATION:Penrith Valley Regional Sports Centre\, 30 Herbert Street\, Cambri
 dge Park\, NSW\, 2747\, Australia
END:VEVENT
END:VCALENDAR
