BEGIN:VCALENDAR
VERSION:2.0
PRODID:-//Squarespace Inc/Squarespace 6//v6//EN
BEGIN:VEVENT
UID:56e7fd1440261df2cd33888a@squarespace.com
DTSTAMP:20160315T121732Z
DTSTART:20160528T190000Z
DTEND:20160528T200000Z
SUMMARY:5x5 2016: Round 3
GEO:-33.917469;150.930628
LOCATION:Sydney Boys High
END:VEVENT
END:VCALENDAR
