BEGIN:VCALENDAR
VERSION:2.0
PRODID:-//Squarespace Inc/Squarespace 6//v6//EN
BEGIN:VEVENT
UID:56e7fdd9e707eb0a43faafe1@squarespace.com
DTSTAMP:20160315T122143Z
DTSTART:20160730T190000Z
DTEND:20160730T200000Z
SUMMARY:5x5 2016: Round 5
GEO:-33.627003;150.804193
LOCATION:Hawkesbury Indoor Stadium\, 16 Stewart Street\, South Windsor\, NS
 W\, 2756\, Australia
END:VEVENT
END:VCALENDAR
