BEGIN:VCALENDAR
VERSION:2.0
PRODID:-//Squarespace Inc/Squarespace 6//v6//EN
BEGIN:VEVENT
UID:59521d1e86e6c0aa3ad0c354@squarespace.com
DTSTAMP:20170906T134329Z
DTSTART:20170715T000000Z
DTEND:20170715T110000Z
SUMMARY:Eastern Region Season Tournament: Round 2 North Division
GEO:-32.828916;151.327359
LOCATION:Cessnock Toyota Stadium\, Mount View Road\, Cessnock\, NSW\, 2325\
 , Australia
END:VEVENT
END:VCALENDAR
