BEGIN:VCALENDAR
VERSION:2.0
PRODID:-//Squarespace Inc/Squarespace 6//v6//EN
BEGIN:VEVENT
UID:59426de229687fe9d25c2642@squarespace.com
DTSTAMP:20170627T085350Z
DTSTART:20170506T013000Z
DTEND:20170506T053000Z
SUMMARY:Eastern Region Season Tournament: Round 1
GEO:-33.385156;151.472591
LOCATION:PCYC Bateau Bay\, The Entrance Rd\,\, Bateau Bay NSW 2261\, Austra
 lia
END:VEVENT
END:VCALENDAR
