BEGIN:VCALENDAR
VERSION:2.0
PRODID:-//Squarespace Inc/Squarespace 6//v6//EN
BEGIN:VEVENT
UID:5940f34e15d5db433b645255@squarespace.com
DTSTAMP:20170614T085645Z
DTSTART:20170617T053000Z
DTEND:20170617T083000Z
SUMMARY:Coastal Clash: Port Macquarie Roller Derby League‎
GEO:-31.469354;152.731801
LOCATION:Wauchope Indoor Stadium\, Cameron Street\, Wauchope\, NSW\, 2446\, 
 Australia
END:VEVENT
END:VCALENDAR
