BEGIN:VCALENDAR
VERSION:2.0
PRODID:-//Squarespace Inc/Squarespace 6//v6//EN
BEGIN:VEVENT
UID:59c10d70914e6bfa8f2eed9e@squarespace.com
DTSTAMP:20170919T123623Z
DTSTART:20170930T000000Z
DTEND:20170930T110000Z
SUMMARY:Smackdown 2017
GEO:-33.383955;151.352351
LOCATION:Niagara Park Stadium\, 18 Washington Avenue\, Niagara Park\, NSW\, 
 2250\, Australia
END:VEVENT
END:VCALENDAR
