BEGIN:VCALENDAR
VERSION:2.0
PRODID:-//Squarespace Inc/Squarespace 6//v6//EN
BEGIN:VEVENT
UID:5b5f035003ce64f3c85dc755@squarespace.com
DTSTAMP:20180730T123111Z
DTSTART:20180609T003000Z
DTEND:20180611T133000Z
SUMMARY:The Great Southern Slam 2018
GEO:-34.945138;138.589158
LOCATION:Adelaide Showground\, Goodwood Road\, Wayville\, SA\, 5034\, Austr
 alia
END:VEVENT
END:VCALENDAR
