BEGIN:VCALENDAR
VERSION:2.0
PRODID:-//Squarespace Inc/Squarespace 6//v6//EN
BEGIN:VEVENT
UID:5bd858ae0d929731e8ade75c@squarespace.com
DTSTAMP:20190626T111901Z
DTSTART:20180825T234500Z
DTEND:20180826T030000Z
SUMMARY:Sirens Debutante Brawl
GEO:-33.75034;151.286249
LOCATION:PCYC Northern beaches\, 40 Kingsway\, Dee Why\, NSW\, 2099\, Austr
 alia
END:VEVENT
END:VCALENDAR
