BEGIN:VCALENDAR
VERSION:2.0
PRODID:-//Squarespace Inc/Squarespace 6//v6//EN
BEGIN:VEVENT
UID:5cd970cb1905f47358c33535@squarespace.com
DTSTAMP:20190513T133235Z
DTSTART:20190427T033000Z
DTEND:20190427T093000Z
SUMMARY:5 X 5  Championship: Round 2
GEO:-33.715635;150.302635
LOCATION:Katoomba Sports & Leisure Centre\, Catalina Avenue\, Katoomba\, NS
 W\, 2780\, Australia
END:VEVENT
END:VCALENDAR
