BEGIN:VCALENDAR
VERSION:2.0
PRODID:-//Squarespace Inc/Squarespace 6//v6//EN
BEGIN:VEVENT
UID:5d1354a54aeac100013f4102@squarespace.com
DTSTAMP:20190704T132343Z
DTSTART:20190713T050000Z
DTEND:20190713T090000Z
SUMMARY:Battle on the Beaches: NBRG vs KCR
GEO:-33.75034;151.286249
LOCATION:PCYC Northern beaches\, 40 Kingsway\, Dee Why\, NSW\, 2099\, Austr
 alia
END:VEVENT
END:VCALENDAR
