BEGIN:VCALENDAR
VERSION:2.0
PRODID:-//Squarespace Inc/Squarespace 6//v6//EN
BEGIN:VEVENT
UID:59f6610f6926700aba31fb8f@squarespace.com
DTSTAMP:20171106T063347Z
DTSTART:20171108T080000Z
DTEND:20171108T103000Z
SUMMARY:Optimus Grime Bootcamp hosted by NBRG
GEO:-33.677358;151.28472
LOCATION:New Life Sport & Fitness Centre\, 10 Jubilee Avenue\, Warriewood\, 
 NSW\, 2102\, Australia
END:VEVENT
END:VCALENDAR
