BEGIN:VCALENDAR
VERSION:2.0
PRODID:-//Squarespace Inc/Squarespace 6//v6//EN
BEGIN:VEVENT
UID:59772163414fb50c464aed94@squarespace.com
DTSTAMP:20181030T130925Z
DTSTART:20170811T083000Z
DTEND:20170811T103000Z
SUMMARY:NBRG Info Night
GEO:-33.765331;151.287031
LOCATION:Curl Curl Youth and Community Centre\, Abbott Road\, North Curl Cu
 rl\, NSW\, 2099\, Australia
END:VEVENT
END:VCALENDAR
