BEGIN:VCALENDAR
VERSION:2.0
PRODID:-//Squarespace Inc/Squarespace 6//v6//EN
BEGIN:VEVENT
UID:5a5615b453450a0fe1beb301@squarespace.com
DTSTAMP:20180110T221123Z
DTSTART:20180202T073000Z
DTEND:20180202T093000Z
SUMMARY:2018 NBRG Roller Derby Info Night
GEO:-33.765331;151.287031
LOCATION:Curl Curl Youth and Community Centre\, Abbott Road\, North Curl Cu
 rl\, NSW\, 2099\, Australia
END:VEVENT
END:VCALENDAR
