BEGIN:VCALENDAR
VERSION:2.0
PRODID:-//Squarespace Inc/Squarespace 6//v6//EN
BEGIN:VEVENT
UID:5a9e8cb6c83025ca5dd181bf@squarespace.com
DTSTAMP:20180309T085055Z
DTSTART:20180323T080000Z
DTEND:20180323T100000Z
SUMMARY:NBRG Family Disco
GEO:-33.763986;151.283065
LOCATION:Curl Curl Youth and Community Centre\, LOT 242 Abbott Road\, Curl 
 Curl\, Australia
END:VEVENT
END:VCALENDAR
