BEGIN:VCALENDAR
VERSION:2.0
PRODID:-//Squarespace Inc/Squarespace 6//v6//EN
BEGIN:VEVENT
UID:5da074a3a99ffe662d9722fc@squarespace.com
DTSTAMP:20191011T123338Z
DTSTART:20191025T080000Z
DTEND:20191025T100000Z
SUMMARY:NBRG Halloween Roller Disco!
GEO:-33.765618;151.288267
LOCATION:Curl Curl Youth & Community Centre\, 242 Abbott Road\, North Curl 
 Curl\, NSW\, 2099\, Australia
END:VEVENT
END:VCALENDAR
