BEGIN:VCALENDAR
VERSION:2.0
PRODID:-//Squarespace Inc/Squarespace 6//v6//EN
BEGIN:VEVENT
UID:5c3c7733f950b7929a337db9@squarespace.com
DTSTAMP:20190116T130034Z
DTSTART:20190208T083000Z
DTEND:20190208T103000Z
SUMMARY:Roller Derby Info Night
GEO:-33.765618;151.288267
LOCATION:Curl Curl Youth and Comunity Centre\, 242 Abbott Road\, North Curl 
 Curl\, NSW\, 2099\, Australia
END:VEVENT
END:VCALENDAR
