BEGIN:VCALENDAR
VERSION:2.0
PRODID:-//Squarespace Inc/Squarespace 6//v6//EN
BEGIN:VEVENT
UID:5d496c831475550001d6109d@squarespace.com
DTSTAMP:20190806T120601Z
DTSTART:20190818T010000Z
DTEND:20190818T030000Z
SUMMARY:Roller Derby Info Day
GEO:-33.75034;151.286249
LOCATION:Northern Beaches PCYC\, 40 Kingsway\, Dee Why\, NSW\, 2099\, Austr
 alia
END:VEVENT
END:VCALENDAR
