BEGIN:VCALENDAR
VERSION:2.0
PRODID:-//Squarespace Inc/Squarespace 6//v6//EN
BEGIN:VEVENT
UID:5e2aeeb0e7f6da189c184273@squarespace.com
DTSTAMP:20200125T232140Z
DTSTART:20200202T010000Z
DTEND:20200202T020000Z
SUMMARY:2020 Roller Derby Info Day
GEO:-33.75034;151.286249
LOCATION:PCYC Northern Beaches\, 40 Kingsway\, Dee Why\, NSW\, 2099\, Austr
 alia
END:VEVENT
END:VCALENDAR
